BEGIN:VCALENDAR
VERSION:2.0
PRODID:-//Brevard College - ECPv6.15.17.1//NONSGML v1.0//EN
CALSCALE:GREGORIAN
METHOD:PUBLISH
X-WR-CALNAME:Brevard College
X-ORIGINAL-URL:https://brevard.edu
X-WR-CALDESC:Events for Brevard College
REFRESH-INTERVAL;VALUE=DURATION:PT1H
X-Robots-Tag:noindex
X-PUBLISHED-TTL:PT1H
BEGIN:VTIMEZONE
TZID:America/New_York
BEGIN:DAYLIGHT
TZOFFSETFROM:-0500
TZOFFSETTO:-0400
TZNAME:EDT
DTSTART:20250309T070000
END:DAYLIGHT
BEGIN:STANDARD
TZOFFSETFROM:-0400
TZOFFSETTO:-0500
TZNAME:EST
DTSTART:20251102T060000
END:STANDARD
BEGIN:DAYLIGHT
TZOFFSETFROM:-0500
TZOFFSETTO:-0400
TZNAME:EDT
DTSTART:20260308T070000
END:DAYLIGHT
BEGIN:STANDARD
TZOFFSETFROM:-0400
TZOFFSETTO:-0500
TZNAME:EST
DTSTART:20261101T060000
END:STANDARD
BEGIN:DAYLIGHT
TZOFFSETFROM:-0500
TZOFFSETTO:-0400
TZNAME:EDT
DTSTART:20270314T070000
END:DAYLIGHT
BEGIN:STANDARD
TZOFFSETFROM:-0400
TZOFFSETTO:-0500
TZNAME:EST
DTSTART:20271107T060000
END:STANDARD
END:VTIMEZONE
BEGIN:VEVENT
DTSTART;TZID=America/New_York:20260419T110000
DTEND;TZID=America/New_York:20260419T130000
DTSTAMP:20260419T212504
CREATED:20251208T185607Z
LAST-MODIFIED:20260419T095304Z
UID:120504-1776596400-1776603600@brevard.edu
SUMMARY:Women's Lacrosse vs Meredith
DESCRIPTION:
URL:https://brevard.edu/event/womens-lacrosse-vs-meredith/
LOCATION:Ives-Lemel Family Field\, 201 Kings Creek Loop\, Brevard\, NC\, United States
CATEGORIES:Athletics
GEO:35.238433;-82.728939
X-APPLE-STRUCTURED-LOCATION;VALUE=URI;X-ADDRESS=Ives-Lemel Family Field 201 Kings Creek Loop Brevard NC United States;X-APPLE-RADIUS=500;X-TITLE=201 Kings Creek Loop:geo:-82.728939,35.238433
END:VEVENT
BEGIN:VEVENT
DTSTART;TZID=America/New_York:20260419T110000
DTEND;TZID=America/New_York:20260419T180000
DTSTAMP:20260419T212504
CREATED:20251208T185608Z
LAST-MODIFIED:20260419T095304Z
UID:120505-1776596400-1776621600@brevard.edu
SUMMARY:Baseball vs. William Peace (DH\, Senior Day)
DESCRIPTION:
URL:https://brevard.edu/event/baseball-vs-william-peace-dh/
LOCATION:Gil Coan Field\, 292 Kings Creek Loop\, Brevard\, NC\, United States
CATEGORIES:Athletics
GEO:35.239135;-82.727689
X-APPLE-STRUCTURED-LOCATION;VALUE=URI;X-ADDRESS=Gil Coan Field 292 Kings Creek Loop Brevard NC United States;X-APPLE-RADIUS=500;X-TITLE=292 Kings Creek Loop:geo:-82.727689,35.239135
END:VEVENT
BEGIN:VEVENT
DTSTART;TZID=America/New_York:20260419T143000
DTEND;TZID=America/New_York:20260419T160000
DTSTAMP:20260419T212504
CREATED:20251210T195525Z
LAST-MODIFIED:20260323T095443Z
UID:120565-1776609000-1776614400@brevard.edu
SUMMARY:BC Theatre presents The Mad Ones
DESCRIPTION:
URL:https://brevard.edu/event/bc-theatre-presents-the-mad-ones-3/
LOCATION:Porter Center\, 1 Brevard College Dr\, Brevard\, NC 28712\, USA\, Porter Center-1-PPC Black Box/Morrison Playhouse (180)\, Brevard College Drive 1\, Brevard\, North Carolina\, 28712\, United States
CATEGORIES:Fine Arts
GEO:35.239552;-82.7288434
X-APPLE-STRUCTURED-LOCATION;VALUE=URI;X-ADDRESS=Porter Center 1 Brevard College Dr Brevard NC 28712 USA Porter Center-1-PPC Black Box/Morrison Playhouse (180) Brevard College Drive 1 Brevard North Carolina 28712 United States;X-APPLE-RADIUS=500;X-TITLE=Brevard College Drive 1:geo:-82.7288434,35.239552
END:VEVENT
END:VCALENDAR