BEGIN:VCALENDAR
VERSION:2.0
PRODID:-//Brevard College - ECPv6.15.20//NONSGML v1.0//EN
CALSCALE:GREGORIAN
METHOD:PUBLISH
X-WR-CALNAME:Brevard College
X-ORIGINAL-URL:https://brevard.edu
X-WR-CALDESC:Events for Brevard College
REFRESH-INTERVAL;VALUE=DURATION:PT1H
X-Robots-Tag:noindex
X-PUBLISHED-TTL:PT1H
BEGIN:VTIMEZONE
TZID:America/New_York
BEGIN:DAYLIGHT
TZOFFSETFROM:-0500
TZOFFSETTO:-0400
TZNAME:EDT
DTSTART:20250309T070000
END:DAYLIGHT
BEGIN:STANDARD
TZOFFSETFROM:-0400
TZOFFSETTO:-0500
TZNAME:EST
DTSTART:20251102T060000
END:STANDARD
BEGIN:DAYLIGHT
TZOFFSETFROM:-0500
TZOFFSETTO:-0400
TZNAME:EDT
DTSTART:20260308T070000
END:DAYLIGHT
BEGIN:STANDARD
TZOFFSETFROM:-0400
TZOFFSETTO:-0500
TZNAME:EST
DTSTART:20261101T060000
END:STANDARD
BEGIN:DAYLIGHT
TZOFFSETFROM:-0500
TZOFFSETTO:-0400
TZNAME:EDT
DTSTART:20270314T070000
END:DAYLIGHT
BEGIN:STANDARD
TZOFFSETFROM:-0400
TZOFFSETTO:-0500
TZNAME:EST
DTSTART:20271107T060000
END:STANDARD
END:VTIMEZONE
BEGIN:VEVENT
DTSTART;TZID=America/New_York:20260424T000000
DTEND;TZID=America/New_York:20260426T000000
DTSTAMP:20260424T094112
CREATED:20260207T014140Z
LAST-MODIFIED:20260424T095656Z
UID:168950-1776988800-1777161600@brevard.edu
SUMMARY:Outdoor Track & Field at 2026 USA South Conference Championships
DESCRIPTION:
URL:https://brevard.edu/event/outdoor-track-field-at-2026-usa-south-conference-championships/
LOCATION:Concord\, NC\, USA
CATEGORIES:Athletics
END:VEVENT
BEGIN:VEVENT
DTSTART;TZID=America/New_York:20260424T130000
DTEND;TZID=America/New_York:20260424T170000
DTSTAMP:20260424T094112
CREATED:20260207T014140Z
LAST-MODIFIED:20260424T095656Z
UID:168949-1777035600-1777050000@brevard.edu
SUMMARY:Softball vs. Pfeiffer DH
DESCRIPTION:
URL:https://brevard.edu/event/softball-vs-pfeiffer-dh/
LOCATION:Brevard\, NC\, USA
CATEGORIES:Athletics
END:VEVENT
BEGIN:VEVENT
DTSTART;TZID=America/New_York:20260424T150000
DTEND;TZID=America/New_York:20260424T210000
DTSTAMP:20260424T094112
CREATED:20251208T185609Z
LAST-MODIFIED:20260424T095656Z
UID:120510-1777042800-1777064400@brevard.edu
SUMMARY:Baseball at Greensboro (DH)
DESCRIPTION:
URL:https://brevard.edu/event/baseball-at-greensboro/
LOCATION:Greensboro\, NC\, USA\, Greensboro\, North Carolina\, United States
CATEGORIES:Athletics
GEO:36.0725632;-79.791534
END:VEVENT
END:VCALENDAR