BEGIN:VCALENDAR
VERSION:2.0
PRODID:-//Brevard College - ECPv6.15.20//NONSGML v1.0//EN
CALSCALE:GREGORIAN
METHOD:PUBLISH
X-WR-CALNAME:Brevard College
X-ORIGINAL-URL:https://brevard.edu
X-WR-CALDESC:Events for Brevard College
REFRESH-INTERVAL;VALUE=DURATION:PT1H
X-Robots-Tag:noindex
X-PUBLISHED-TTL:PT1H
BEGIN:VTIMEZONE
TZID:America/New_York
BEGIN:DAYLIGHT
TZOFFSETFROM:-0500
TZOFFSETTO:-0400
TZNAME:EDT
DTSTART:20250309T070000
END:DAYLIGHT
BEGIN:STANDARD
TZOFFSETFROM:-0400
TZOFFSETTO:-0500
TZNAME:EST
DTSTART:20251102T060000
END:STANDARD
BEGIN:DAYLIGHT
TZOFFSETFROM:-0500
TZOFFSETTO:-0400
TZNAME:EDT
DTSTART:20260308T070000
END:DAYLIGHT
BEGIN:STANDARD
TZOFFSETFROM:-0400
TZOFFSETTO:-0500
TZNAME:EST
DTSTART:20261101T060000
END:STANDARD
BEGIN:DAYLIGHT
TZOFFSETFROM:-0500
TZOFFSETTO:-0400
TZNAME:EDT
DTSTART:20270314T070000
END:DAYLIGHT
BEGIN:STANDARD
TZOFFSETFROM:-0400
TZOFFSETTO:-0500
TZNAME:EST
DTSTART:20271107T060000
END:STANDARD
END:VTIMEZONE
BEGIN:VEVENT
DTSTART;TZID=America/New_York:20260919T000000
DTEND;TZID=America/New_York:20260921T000000
DTSTAMP:20260421T010711
CREATED:20260407T090815Z
LAST-MODIFIED:20260420T095323Z
UID:169735-1789776000-1789948800@brevard.edu
SUMMARY:Cycling at Lees-McRae Race
DESCRIPTION:
URL:https://brevard.edu/event/cycling-at-lees-mcrae-race/
LOCATION:Banner Elk\, Banner Elk\, NC\, United States
CATEGORIES:Athletics
GEO:36.210959;-81.889003
END:VEVENT
BEGIN:VEVENT
DTSTART;TZID=America/New_York:20260919T120000
DTEND;TZID=America/New_York:20260919T140000
DTSTAMP:20260421T010711
CREATED:20260408T090816Z
LAST-MODIFIED:20260420T095323Z
UID:169755-1789819200-1789826400@brevard.edu
SUMMARY:Women’s Soccer at Mary Baldwin
DESCRIPTION:
URL:https://brevard.edu/event/womens-soccer-at-mary-baldwin/
LOCATION:Staunton\, Staunton\, VA\, United States
CATEGORIES:Athletics
GEO:38.162633;-78.950026
END:VEVENT
BEGIN:VEVENT
DTSTART;TZID=America/New_York:20260919T133000
DTEND;TZID=America/New_York:20260919T163000
DTSTAMP:20260421T010711
CREATED:20260407T090814Z
LAST-MODIFIED:20260420T095323Z
UID:169734-1789824600-1789835400@brevard.edu
SUMMARY:Football at Erskine
DESCRIPTION:
URL:https://brevard.edu/event/football-at-erskine/
LOCATION:Due West\, Due West\, SC\, United States
CATEGORIES:Athletics
GEO:34.326755;-82.430787
END:VEVENT
END:VCALENDAR