BEGIN:VCALENDAR
VERSION:2.0
PRODID:-//Brevard College - ECPv6.15.20//NONSGML v1.0//EN
CALSCALE:GREGORIAN
METHOD:PUBLISH
X-WR-CALNAME:Brevard College
X-ORIGINAL-URL:https://brevard.edu
X-WR-CALDESC:Events for Brevard College
REFRESH-INTERVAL;VALUE=DURATION:PT1H
X-Robots-Tag:noindex
X-PUBLISHED-TTL:PT1H
BEGIN:VTIMEZONE
TZID:America/New_York
BEGIN:DAYLIGHT
TZOFFSETFROM:-0500
TZOFFSETTO:-0400
TZNAME:EDT
DTSTART:20250309T070000
END:DAYLIGHT
BEGIN:STANDARD
TZOFFSETFROM:-0400
TZOFFSETTO:-0500
TZNAME:EST
DTSTART:20251102T060000
END:STANDARD
BEGIN:DAYLIGHT
TZOFFSETFROM:-0500
TZOFFSETTO:-0400
TZNAME:EDT
DTSTART:20260308T070000
END:DAYLIGHT
BEGIN:STANDARD
TZOFFSETFROM:-0400
TZOFFSETTO:-0500
TZNAME:EST
DTSTART:20261101T060000
END:STANDARD
BEGIN:DAYLIGHT
TZOFFSETFROM:-0500
TZOFFSETTO:-0400
TZNAME:EDT
DTSTART:20270314T070000
END:DAYLIGHT
BEGIN:STANDARD
TZOFFSETFROM:-0400
TZOFFSETTO:-0500
TZNAME:EST
DTSTART:20271107T060000
END:STANDARD
END:VTIMEZONE
BEGIN:VEVENT
DTSTART;TZID=America/New_York:20260901T200000
DTEND;TZID=America/New_York:20260901T220000
DTSTAMP:20260420T175414
CREATED:20260408T090815Z
LAST-MODIFIED:20260420T095322Z
UID:169750-1788292800-1788300000@brevard.edu
SUMMARY:Women’s Soccer at Piedmont
DESCRIPTION:
URL:https://brevard.edu/event/womens-soccer-at-piedmont/
LOCATION:Demorest\, Demorest\, GA\, United States
CATEGORIES:Athletics
GEO:34.601208;-83.613508
END:VEVENT
BEGIN:VEVENT
DTSTART;TZID=America/New_York:20260904T170000
DTEND;TZID=America/New_York:20260904T190000
DTSTAMP:20260420T175414
CREATED:20260408T090815Z
LAST-MODIFIED:20260420T095322Z
UID:169751-1788541200-1788548400@brevard.edu
SUMMARY:Women’s Soccer at Averett
DESCRIPTION:
URL:https://brevard.edu/event/womens-soccer-at-averett/
LOCATION:Danville\, VA\, USA
CATEGORIES:Athletics
END:VEVENT
BEGIN:VEVENT
DTSTART;TZID=America/New_York:20260905T000000
DTEND;TZID=America/New_York:20260907T000000
DTSTAMP:20260420T175414
CREATED:20260407T090814Z
LAST-MODIFIED:20260420T095322Z
UID:169731-1788566400-1788739200@brevard.edu
SUMMARY:Cycling at Lindsey Wilson Race
DESCRIPTION:
URL:https://brevard.edu/event/cycling-at-lindsey-wilson-race/
LOCATION:Columbia\, Columbia\, KY\, United States
CATEGORIES:Athletics
GEO:37.197286;-85.325518
END:VEVENT
BEGIN:VEVENT
DTSTART;TZID=America/New_York:20260909T180000
DTEND;TZID=America/New_York:20260909T200000
DTSTAMP:20260420T175414
CREATED:20260408T090815Z
LAST-MODIFIED:20260420T095322Z
UID:169752-1788976800-1788984000@brevard.edu
SUMMARY:Women’s Soccer at Oglethorpe
DESCRIPTION:
URL:https://brevard.edu/event/womens-soccer-at-oglethorpe/
LOCATION:Atlanta\, GA\, USA
CATEGORIES:Athletics
END:VEVENT
BEGIN:VEVENT
DTSTART;TZID=America/New_York:20260912T130000
DTEND;TZID=America/New_York:20260912T160000
DTSTAMP:20260420T175414
CREATED:20260407T090814Z
LAST-MODIFIED:20260420T095322Z
UID:169732-1789218000-1789228800@brevard.edu
SUMMARY:Football vs. Sewanee
DESCRIPTION:
URL:https://brevard.edu/event/football-vs-sewanee/
LOCATION:Ives-Lemel Family Field\, 201 Kings Creek Loop\, Brevard\, NC\, United States
CATEGORIES:Athletics
GEO:35.238433;-82.728939
X-APPLE-STRUCTURED-LOCATION;VALUE=URI;X-ADDRESS=Ives-Lemel Family Field 201 Kings Creek Loop Brevard NC United States;X-APPLE-RADIUS=500;X-TITLE=201 Kings Creek Loop:geo:-82.728939,35.238433
END:VEVENT
BEGIN:VEVENT
DTSTART;TZID=America/New_York:20260912T190000
DTEND;TZID=America/New_York:20260912T210000
DTSTAMP:20260420T175414
CREATED:20260408T090816Z
LAST-MODIFIED:20260420T095323Z
UID:169753-1789239600-1789246800@brevard.edu
SUMMARY:Women’s Soccer vs. Guilford
DESCRIPTION:
URL:https://brevard.edu/event/womens-soccer-vs-guilford/
LOCATION:Ives-Lemel Family Field\, 201 Kings Creek Loop\, Brevard\, NC\, United States
CATEGORIES:Athletics
GEO:35.238433;-82.728939
X-APPLE-STRUCTURED-LOCATION;VALUE=URI;X-ADDRESS=Ives-Lemel Family Field 201 Kings Creek Loop Brevard NC United States;X-APPLE-RADIUS=500;X-TITLE=201 Kings Creek Loop:geo:-82.728939,35.238433
END:VEVENT
BEGIN:VEVENT
DTSTART;TZID=America/New_York:20260915T170000
DTEND;TZID=America/New_York:20260915T190000
DTSTAMP:20260420T175414
CREATED:20260408T090816Z
LAST-MODIFIED:20260420T095323Z
UID:169754-1789491600-1789498800@brevard.edu
SUMMARY:Women’s Soccer at Carolina University
DESCRIPTION:
URL:https://brevard.edu/event/womens-soccer-at-carolina-university/
LOCATION:Winston-Salem\, NC\, USA\, Winston-Salem\, North Carolina\, United States
CATEGORIES:Athletics
GEO:36.0948221;-80.2434028
END:VEVENT
BEGIN:VEVENT
DTSTART;TZID=America/New_York:20260919T000000
DTEND;TZID=America/New_York:20260921T000000
DTSTAMP:20260420T175414
CREATED:20260407T090815Z
LAST-MODIFIED:20260420T095323Z
UID:169735-1789776000-1789948800@brevard.edu
SUMMARY:Cycling at Lees-McRae Race
DESCRIPTION:
URL:https://brevard.edu/event/cycling-at-lees-mcrae-race/
LOCATION:Banner Elk\, Banner Elk\, NC\, United States
CATEGORIES:Athletics
GEO:36.210959;-81.889003
END:VEVENT
BEGIN:VEVENT
DTSTART;TZID=America/New_York:20260919T120000
DTEND;TZID=America/New_York:20260919T140000
DTSTAMP:20260420T175414
CREATED:20260408T090816Z
LAST-MODIFIED:20260420T095323Z
UID:169755-1789819200-1789826400@brevard.edu
SUMMARY:Women’s Soccer at Mary Baldwin
DESCRIPTION:
URL:https://brevard.edu/event/womens-soccer-at-mary-baldwin/
LOCATION:Staunton\, Staunton\, VA\, United States
CATEGORIES:Athletics
GEO:38.162633;-78.950026
END:VEVENT
BEGIN:VEVENT
DTSTART;TZID=America/New_York:20260919T133000
DTEND;TZID=America/New_York:20260919T163000
DTSTAMP:20260420T175414
CREATED:20260407T090814Z
LAST-MODIFIED:20260420T095323Z
UID:169734-1789824600-1789835400@brevard.edu
SUMMARY:Football at Erskine
DESCRIPTION:
URL:https://brevard.edu/event/football-at-erskine/
LOCATION:Due West\, Due West\, SC\, United States
CATEGORIES:Athletics
GEO:34.326755;-82.430787
END:VEVENT
BEGIN:VEVENT
DTSTART;TZID=America/New_York:20260923T160000
DTEND;TZID=America/New_York:20260923T180000
DTSTAMP:20260420T175414
CREATED:20260408T090816Z
LAST-MODIFIED:20260420T095323Z
UID:169756-1790179200-1790186400@brevard.edu
SUMMARY:Women’s Soccer vs. Salem
DESCRIPTION:
URL:https://brevard.edu/event/womens-soccer-vs-salem/
LOCATION:Ives-Lemel Family Field\, 201 Kings Creek Loop\, Brevard\, NC\, United States
CATEGORIES:Athletics
GEO:35.238433;-82.728939
X-APPLE-STRUCTURED-LOCATION;VALUE=URI;X-ADDRESS=Ives-Lemel Family Field 201 Kings Creek Loop Brevard NC United States;X-APPLE-RADIUS=500;X-TITLE=201 Kings Creek Loop:geo:-82.728939,35.238433
END:VEVENT
BEGIN:VEVENT
DTSTART;TZID=America/New_York:20260926T000000
DTEND;TZID=America/New_York:20260928T000000
DTSTAMP:20260420T175414
CREATED:20260407T090815Z
LAST-MODIFIED:20260420T095324Z
UID:169736-1790380800-1790553600@brevard.edu
SUMMARY:Cycling at SECCC Championships | Brevard Home Race
DESCRIPTION:
URL:https://brevard.edu/event/cycling-at-seccc-championships-brevard-home-race/
LOCATION:Ride Rock Creek Bike Park\, 298 W Rock Creek Rd\, Zirconia\, NC\, United States
CATEGORIES:Athletics
GEO:35.199084;-82.508888
X-APPLE-STRUCTURED-LOCATION;VALUE=URI;X-ADDRESS=Ride Rock Creek Bike Park 298 W Rock Creek Rd Zirconia NC United States;X-APPLE-RADIUS=500;X-TITLE=298 W Rock Creek Rd:geo:-82.508888,35.199084
END:VEVENT
BEGIN:VEVENT
DTSTART;TZID=America/New_York:20260926T120000
DTEND;TZID=America/New_York:20260926T140000
DTSTAMP:20260420T175414
CREATED:20260408T090817Z
LAST-MODIFIED:20260420T095324Z
UID:169757-1790424000-1790431200@brevard.edu
SUMMARY:Women’s Soccer vs. Methodist
DESCRIPTION:
URL:https://brevard.edu/event/womens-soccer-vs-methodist/
LOCATION:Ives-Lemel Family Field\, 201 Kings Creek Loop\, Brevard\, NC\, United States
CATEGORIES:Athletics
GEO:35.238433;-82.728939
X-APPLE-STRUCTURED-LOCATION;VALUE=URI;X-ADDRESS=Ives-Lemel Family Field 201 Kings Creek Loop Brevard NC United States;X-APPLE-RADIUS=500;X-TITLE=201 Kings Creek Loop:geo:-82.728939,35.238433
END:VEVENT
BEGIN:VEVENT
DTSTART;TZID=America/New_York:20260926T180000
DTEND;TZID=America/New_York:20260926T210000
DTSTAMP:20260420T175414
CREATED:20260407T090815Z
LAST-MODIFIED:20260420T095323Z
UID:169737-1790445600-1790456400@brevard.edu
SUMMARY:Football at Guilford
DESCRIPTION:
URL:https://brevard.edu/event/football-at-guilford/
LOCATION:Greensboro\, NC\, USA\, Greensboro\, North Carolina\, United States
CATEGORIES:Athletics
GEO:36.0725632;-79.791534
END:VEVENT
BEGIN:VEVENT
DTSTART;TZID=America/New_York:20260929T140000
DTEND;TZID=America/New_York:20260929T160000
DTSTAMP:20260420T175414
CREATED:20260408T090817Z
LAST-MODIFIED:20260420T095324Z
UID:169758-1790690400-1790697600@brevard.edu
SUMMARY:Women’s Soccer vs. Sewanee
DESCRIPTION:
URL:https://brevard.edu/event/womens-soccer-vs-sewanee/
LOCATION:Ives-Lemel Family Field\, 201 Kings Creek Loop\, Brevard\, NC\, United States
CATEGORIES:Athletics
GEO:35.238433;-82.728939
X-APPLE-STRUCTURED-LOCATION;VALUE=URI;X-ADDRESS=Ives-Lemel Family Field 201 Kings Creek Loop Brevard NC United States;X-APPLE-RADIUS=500;X-TITLE=201 Kings Creek Loop:geo:-82.728939,35.238433
END:VEVENT
END:VCALENDAR