BEGIN:VCALENDAR
VERSION:2.0
PRODID:-//Brevard College - ECPv6.15.20//NONSGML v1.0//EN
CALSCALE:GREGORIAN
METHOD:PUBLISH
X-ORIGINAL-URL:https://brevard.edu
X-WR-CALDESC:Events for Brevard College
REFRESH-INTERVAL;VALUE=DURATION:PT1H
X-Robots-Tag:noindex
X-PUBLISHED-TTL:PT1H
BEGIN:VTIMEZONE
TZID:America/New_York
BEGIN:DAYLIGHT
TZOFFSETFROM:-0500
TZOFFSETTO:-0400
TZNAME:EDT
DTSTART:20250309T070000
END:DAYLIGHT
BEGIN:STANDARD
TZOFFSETFROM:-0400
TZOFFSETTO:-0500
TZNAME:EST
DTSTART:20251102T060000
END:STANDARD
BEGIN:DAYLIGHT
TZOFFSETFROM:-0500
TZOFFSETTO:-0400
TZNAME:EDT
DTSTART:20260308T070000
END:DAYLIGHT
BEGIN:STANDARD
TZOFFSETFROM:-0400
TZOFFSETTO:-0500
TZNAME:EST
DTSTART:20261101T060000
END:STANDARD
BEGIN:DAYLIGHT
TZOFFSETFROM:-0500
TZOFFSETTO:-0400
TZNAME:EDT
DTSTART:20270314T070000
END:DAYLIGHT
BEGIN:STANDARD
TZOFFSETFROM:-0400
TZOFFSETTO:-0500
TZNAME:EST
DTSTART:20271107T060000
END:STANDARD
END:VTIMEZONE
BEGIN:VEVENT
DTSTART;TZID=America/New_York:20261024T160000
DTEND;TZID=America/New_York:20261024T180000
DTSTAMP:20260424T073331
CREATED:20260424T095705Z
LAST-MODIFIED:20260424T095705Z
UID:169943-1792857600-1792864800@brevard.edu
SUMMARY:Men's Soccer at Southern Virginia
DESCRIPTION:
URL:https://brevard.edu/event/mens-soccer-at-southern-virginia/
LOCATION:Buena Vista\, VA\, USA
CATEGORIES:Athletics
END:VEVENT
BEGIN:VEVENT
DTSTART;TZID=America/New_York:20261028T170000
DTEND;TZID=America/New_York:20261028T190000
DTSTAMP:20260424T073331
CREATED:20260408T090819Z
LAST-MODIFIED:20260424T095705Z
UID:169765-1793206800-1793214000@brevard.edu
SUMMARY:Women’s Soccer at Pfeiffer
DESCRIPTION:
URL:https://brevard.edu/event/womens-soccer-at-pfeiffer/
LOCATION:Misenheimer\, Richfield\, NC\, United States
CATEGORIES:Athletics
GEO:35.454142;-80.283764
END:VEVENT
BEGIN:VEVENT
DTSTART;TZID=America/New_York:20261028T190000
DTEND;TZID=America/New_York:20261028T210000
DTSTAMP:20260424T073331
CREATED:20260424T095705Z
LAST-MODIFIED:20260424T095705Z
UID:169944-1793214000-1793221200@brevard.edu
SUMMARY:Men's Soccer vs. Pfeiffer
DESCRIPTION:
URL:https://brevard.edu/event/mens-soccer-vs-pfeiffer/
LOCATION:Ives-Lemel Family Field\, 201 Kings Creek Loop\, Brevard\, NC\, United States
CATEGORIES:Athletics
GEO:35.238433;-82.728939
X-APPLE-STRUCTURED-LOCATION;VALUE=URI;X-ADDRESS=Ives-Lemel Family Field 201 Kings Creek Loop Brevard NC United States;X-APPLE-RADIUS=500;X-TITLE=201 Kings Creek Loop:geo:-82.728939,35.238433
END:VEVENT
BEGIN:VEVENT
DTSTART;VALUE=DATE:20261031
DTEND;VALUE=DATE:20261101
DTSTAMP:20260424T073331
CREATED:20260408T090819Z
LAST-MODIFIED:20260424T095705Z
UID:169766-1793404800-1793491199@brevard.edu
SUMMARY:USA South Women’s Soccer Tournament - First Round
DESCRIPTION:
URL:https://brevard.edu/event/usa-south-womens-soccer-tournament-first-round/
CATEGORIES:Athletics
END:VEVENT
BEGIN:VEVENT
DTSTART;TZID=America/New_York:20261031T000000
DTEND;TZID=America/New_York:20261101T000000
DTSTAMP:20260424T073331
CREATED:20260424T095705Z
LAST-MODIFIED:20260424T095705Z
UID:169945-1793404800-1793491200@brevard.edu
SUMMARY:USA South Men’s Soccer Tournament - First Round
DESCRIPTION:
URL:https://brevard.edu/event/usa-south-mens-soccer-tournament-first-round/
CATEGORIES:Athletics
END:VEVENT
BEGIN:VEVENT
DTSTART;TZID=America/New_York:20261031T190000
DTEND;TZID=America/New_York:20261031T220000
DTSTAMP:20260424T073331
CREATED:20260407T090817Z
LAST-MODIFIED:20260424T095705Z
UID:169743-1793473200-1793484000@brevard.edu
SUMMARY:Football vs. Greensboro
DESCRIPTION:
URL:https://brevard.edu/event/football-vs-greensboro/
LOCATION:Ives-Lemel Family Field\, 201 Kings Creek Loop\, Brevard\, NC\, United States
CATEGORIES:Athletics
GEO:35.238433;-82.728939
X-APPLE-STRUCTURED-LOCATION;VALUE=URI;X-ADDRESS=Ives-Lemel Family Field 201 Kings Creek Loop Brevard NC United States;X-APPLE-RADIUS=500;X-TITLE=201 Kings Creek Loop:geo:-82.728939,35.238433
END:VEVENT
BEGIN:VEVENT
DTSTART;VALUE=DATE:20261104
DTEND;VALUE=DATE:20261105
DTSTAMP:20260424T073331
CREATED:20260408T090819Z
LAST-MODIFIED:20260424T095705Z
UID:169767-1793750400-1793836799@brevard.edu
SUMMARY:USA South Women’s Soccer Tournament - Semifinal
DESCRIPTION:
URL:https://brevard.edu/event/usa-south-womens-soccer-tournament-semifinal/
CATEGORIES:Athletics
END:VEVENT
BEGIN:VEVENT
DTSTART;TZID=America/New_York:20261104T000000
DTEND;TZID=America/New_York:20261105T000000
DTSTAMP:20260424T073331
CREATED:20260424T095705Z
LAST-MODIFIED:20260424T095705Z
UID:169946-1793750400-1793836800@brevard.edu
SUMMARY:USA South Men’s Soccer Tournament - Semifinal
DESCRIPTION:
URL:https://brevard.edu/event/usa-south-mens-soccer-tournament-semifinal/
CATEGORIES:Athletics
END:VEVENT
BEGIN:VEVENT
DTSTART;VALUE=DATE:20261107
DTEND;VALUE=DATE:20261108
DTSTAMP:20260424T073331
CREATED:20260408T090819Z
LAST-MODIFIED:20260424T095706Z
UID:169768-1794009600-1794095999@brevard.edu
SUMMARY:USA South Women’s Soccer Tournament - Championship
DESCRIPTION:
URL:https://brevard.edu/event/usa-south-womens-soccer-tournament-championship/
CATEGORIES:Athletics
END:VEVENT
BEGIN:VEVENT
DTSTART;TZID=America/New_York:20261107T000000
DTEND;TZID=America/New_York:20261108T000000
DTSTAMP:20260424T073331
CREATED:20260424T095705Z
LAST-MODIFIED:20260424T095705Z
UID:169947-1794009600-1794096000@brevard.edu
SUMMARY:USA South Men’s Soccer Tournament - Championship
DESCRIPTION:
URL:https://brevard.edu/event/usa-south-mens-soccer-tournament-championship/
CATEGORIES:Athletics
END:VEVENT
BEGIN:VEVENT
DTSTART;TZID=America/New_York:20261107T120000
DTEND;TZID=America/New_York:20261107T150000
DTSTAMP:20260424T073331
CREATED:20260407T090817Z
LAST-MODIFIED:20260424T095706Z
UID:169744-1794052800-1794063600@brevard.edu
SUMMARY:Football vs. Methodist
DESCRIPTION:
URL:https://brevard.edu/event/football-vs-methodist/
LOCATION:Ives-Lemel Family Field\, 201 Kings Creek Loop\, Brevard\, NC\, United States
CATEGORIES:Athletics
GEO:35.238433;-82.728939
X-APPLE-STRUCTURED-LOCATION;VALUE=URI;X-ADDRESS=Ives-Lemel Family Field 201 Kings Creek Loop Brevard NC United States;X-APPLE-RADIUS=500;X-TITLE=201 Kings Creek Loop:geo:-82.728939,35.238433
END:VEVENT
BEGIN:VEVENT
DTSTART;TZID=America/New_York:20261114T120000
DTEND;TZID=America/New_York:20261114T150000
DTSTAMP:20260424T073331
CREATED:20260407T090817Z
LAST-MODIFIED:20260424T095706Z
UID:169745-1794657600-1794668400@brevard.edu
SUMMARY:Football at NC Wesleyan
DESCRIPTION:
URL:https://brevard.edu/event/football-at-nc-wesleyan/
LOCATION:Rocky Mount\, NC\, USA
CATEGORIES:Athletics
END:VEVENT
END:VCALENDAR