BEGIN:VCALENDAR
VERSION:2.0
PRODID:-//Brevard College - ECPv6.15.20//NONSGML v1.0//EN
CALSCALE:GREGORIAN
METHOD:PUBLISH
X-ORIGINAL-URL:https://brevard.edu
X-WR-CALDESC:Events for Brevard College
REFRESH-INTERVAL;VALUE=DURATION:PT1H
X-Robots-Tag:noindex
X-PUBLISHED-TTL:PT1H
BEGIN:VTIMEZONE
TZID:America/New_York
BEGIN:DAYLIGHT
TZOFFSETFROM:-0500
TZOFFSETTO:-0400
TZNAME:EDT
DTSTART:20240310T070000
END:DAYLIGHT
BEGIN:STANDARD
TZOFFSETFROM:-0400
TZOFFSETTO:-0500
TZNAME:EST
DTSTART:20241103T060000
END:STANDARD
BEGIN:DAYLIGHT
TZOFFSETFROM:-0500
TZOFFSETTO:-0400
TZNAME:EDT
DTSTART:20250309T070000
END:DAYLIGHT
BEGIN:STANDARD
TZOFFSETFROM:-0400
TZOFFSETTO:-0500
TZNAME:EST
DTSTART:20251102T060000
END:STANDARD
BEGIN:DAYLIGHT
TZOFFSETFROM:-0500
TZOFFSETTO:-0400
TZNAME:EDT
DTSTART:20260308T070000
END:DAYLIGHT
BEGIN:STANDARD
TZOFFSETFROM:-0400
TZOFFSETTO:-0500
TZNAME:EST
DTSTART:20261101T060000
END:STANDARD
BEGIN:DAYLIGHT
TZOFFSETFROM:-0500
TZOFFSETTO:-0400
TZNAME:EDT
DTSTART:20270314T070000
END:DAYLIGHT
BEGIN:STANDARD
TZOFFSETFROM:-0400
TZOFFSETTO:-0500
TZNAME:EST
DTSTART:20271107T060000
END:STANDARD
END:VTIMEZONE
BEGIN:VEVENT
DTSTART;TZID=America/New_York:20251229T180000
DTEND;TZID=America/New_York:20251229T200000
DTSTAMP:20260422T114426
CREATED:20251119T162037Z
LAST-MODIFIED:20251229T195733Z
UID:120055-1767031200-1767038400@brevard.edu
SUMMARY:Women's Basketball at UNC Asheville (Exhibition)
DESCRIPTION:
URL:https://brevard.edu/event/womens-basketball-at-unc-asheville-exhibition/
LOCATION:Asheville\, NC\, USA
CATEGORIES:Athletics
END:VEVENT
BEGIN:VEVENT
DTSTART;TZID=America/New_York:20251229T180000
DTEND;TZID=America/New_York:20251229T200000
DTSTAMP:20260422T114426
CREATED:20251119T162038Z
LAST-MODIFIED:20251229T195733Z
UID:120056-1767031200-1767038400@brevard.edu
SUMMARY:Men's Basketball vs. Sewanee (Jack Berkshire Classic)
DESCRIPTION:
URL:https://brevard.edu/event/mens-basketball-vs-sewanee-jack-berkshire-classic/
LOCATION:Atlanta\, GA\, USA
CATEGORIES:Athletics
END:VEVENT
BEGIN:VEVENT
DTSTART;TZID=America/New_York:20251230T160000
DTEND;TZID=America/New_York:20251230T180000
DTSTAMP:20260422T114426
CREATED:20251119T162038Z
LAST-MODIFIED:20251230T201218Z
UID:120058-1767110400-1767117600@brevard.edu
SUMMARY:Men's Basketball at Oglethorpe (Jack Berkshire Classic)
DESCRIPTION:
URL:https://brevard.edu/event/mens-basketball-at-oglethorpe-jack-berkshire-classic/
LOCATION:Atlanta\, GA\, USA
CATEGORIES:Athletics
END:VEVENT
BEGIN:VEVENT
DTSTART;TZID=America/New_York:20251230T190000
DTEND;TZID=America/New_York:20251230T210000
DTSTAMP:20260422T114426
CREATED:20251119T162038Z
LAST-MODIFIED:20251230T201218Z
UID:120057-1767121200-1767128400@brevard.edu
SUMMARY:Women's Basketball at Furman (Exhibition)
DESCRIPTION:
URL:https://brevard.edu/event/womens-basketball-at-furman-exhibition/
LOCATION:Greenville\, SC\, USA
CATEGORIES:Athletics
END:VEVENT
BEGIN:VEVENT
DTSTART;TZID=America/New_York:20260103T140000
DTEND;TZID=America/New_York:20260103T160000
DTSTAMP:20260422T114426
CREATED:20251119T162038Z
LAST-MODIFIED:20260102T205602Z
UID:120059-1767448800-1767456000@brevard.edu
SUMMARY:Women's Basketball vs. Meredith
DESCRIPTION:
URL:https://brevard.edu/event/womens-basketball-vs-meredith/
LOCATION:Boshamer Gymnasium\, 695 Kings Creek Loop\, Brevard\, NC\, United States
CATEGORIES:Athletics
GEO:35.239704;-82.727158
X-APPLE-STRUCTURED-LOCATION;VALUE=URI;X-ADDRESS=Boshamer Gymnasium 695 Kings Creek Loop Brevard NC United States;X-APPLE-RADIUS=500;X-TITLE=695 Kings Creek Loop:geo:-82.727158,35.239704
END:VEVENT
BEGIN:VEVENT
DTSTART;TZID=America/New_York:20260103T160000
DTEND;TZID=America/New_York:20260103T180000
DTSTAMP:20260422T114426
CREATED:20251119T162038Z
LAST-MODIFIED:20260103T210811Z
UID:120060-1767456000-1767463200@brevard.edu
SUMMARY:Men's Basketball vs. Mary Baldwin
DESCRIPTION:
URL:https://brevard.edu/event/mens-basketball-vs-mary-baldwin/
LOCATION:Boshamer Gymnasium\, 695 Kings Creek Loop\, Brevard\, NC\, United States
CATEGORIES:Athletics
GEO:35.239704;-82.727158
X-APPLE-STRUCTURED-LOCATION;VALUE=URI;X-ADDRESS=Boshamer Gymnasium 695 Kings Creek Loop Brevard NC United States;X-APPLE-RADIUS=500;X-TITLE=695 Kings Creek Loop:geo:-82.727158,35.239704
END:VEVENT
END:VCALENDAR