BEGIN:VCALENDAR
VERSION:2.0
PRODID:-//Brevard College - ECPv6.15.17.1//NONSGML v1.0//EN
CALSCALE:GREGORIAN
METHOD:PUBLISH
X-WR-CALNAME:Brevard College
X-ORIGINAL-URL:https://brevard.edu
X-WR-CALDESC:Events for Brevard College
REFRESH-INTERVAL;VALUE=DURATION:PT1H
X-Robots-Tag:noindex
X-PUBLISHED-TTL:PT1H
BEGIN:VTIMEZONE
TZID:America/New_York
BEGIN:DAYLIGHT
TZOFFSETFROM:-0500
TZOFFSETTO:-0400
TZNAME:EDT
DTSTART:20250309T070000
END:DAYLIGHT
BEGIN:STANDARD
TZOFFSETFROM:-0400
TZOFFSETTO:-0500
TZNAME:EST
DTSTART:20251102T060000
END:STANDARD
BEGIN:DAYLIGHT
TZOFFSETFROM:-0500
TZOFFSETTO:-0400
TZNAME:EDT
DTSTART:20260308T070000
END:DAYLIGHT
BEGIN:STANDARD
TZOFFSETFROM:-0400
TZOFFSETTO:-0500
TZNAME:EST
DTSTART:20261101T060000
END:STANDARD
BEGIN:DAYLIGHT
TZOFFSETFROM:-0500
TZOFFSETTO:-0400
TZNAME:EDT
DTSTART:20270314T070000
END:DAYLIGHT
BEGIN:STANDARD
TZOFFSETFROM:-0400
TZOFFSETTO:-0500
TZNAME:EST
DTSTART:20271107T060000
END:STANDARD
END:VTIMEZONE
BEGIN:VEVENT
DTSTART;TZID=America/New_York:20260120T170000
DTEND;TZID=America/New_York:20260120T190000
DTSTAMP:20260419T212756
CREATED:20251119T162041Z
LAST-MODIFIED:20260120T232616Z
UID:120071-1768928400-1768935600@brevard.edu
SUMMARY:Women's Basketball at Pfeiffer
DESCRIPTION:
URL:https://brevard.edu/event/womens-basketball-at-pfeiffer/
LOCATION:Misenheimer\, Richfield\, NC\, United States
CATEGORIES:Athletics
GEO:35.454142;-80.283764
END:VEVENT
BEGIN:VEVENT
DTSTART;TZID=America/New_York:20260120T190000
DTEND;TZID=America/New_York:20260120T210000
DTSTAMP:20260419T212756
CREATED:20251119T162041Z
LAST-MODIFIED:20260120T232616Z
UID:120072-1768935600-1768942800@brevard.edu
SUMMARY:Men's Basketball at Johnson & Wales NC
DESCRIPTION:
URL:https://brevard.edu/event/mens-basketball-at-johnson-wales-nc/
LOCATION:Charlotte\, NC\, USA\, Charlotte\, North Carolina\, United States
CATEGORIES:Athletics
GEO:35.2215548;-80.840116
END:VEVENT
BEGIN:VEVENT
DTSTART;TZID=America/New_York:20260123T170000
DTEND;TZID=America/New_York:20260123T190000
DTSTAMP:20260419T212756
CREATED:20251119T162041Z
LAST-MODIFIED:20260123T234018Z
UID:120074-1769187600-1769194800@brevard.edu
SUMMARY:Women's Basketball vs. Southern Virginia
DESCRIPTION:
URL:https://brevard.edu/event/womens-basketball-vs-southern-virginia/
LOCATION:Boshamer Gymnasium\, 695 Kings Creek Loop\, Brevard\, NC\, United States
CATEGORIES:Athletics
GEO:35.239704;-82.727158
X-APPLE-STRUCTURED-LOCATION;VALUE=URI;X-ADDRESS=Boshamer Gymnasium 695 Kings Creek Loop Brevard NC United States;X-APPLE-RADIUS=500;X-TITLE=695 Kings Creek Loop:geo:-82.727158,35.239704
END:VEVENT
BEGIN:VEVENT
DTSTART;TZID=America/New_York:20260123T190000
DTEND;TZID=America/New_York:20260123T210000
DTSTAMP:20260419T212756
CREATED:20251119T162041Z
LAST-MODIFIED:20260123T234018Z
UID:120073-1769194800-1769202000@brevard.edu
SUMMARY:Men's Basketball vs. Southern Virginia
DESCRIPTION:
URL:https://brevard.edu/event/mens-basketball-vs-southern-virginia/
LOCATION:Boshamer Gymnasium\, 695 Kings Creek Loop\, Brevard\, NC\, United States
CATEGORIES:Athletics
GEO:35.239704;-82.727158
X-APPLE-STRUCTURED-LOCATION;VALUE=URI;X-ADDRESS=Boshamer Gymnasium 695 Kings Creek Loop Brevard NC United States;X-APPLE-RADIUS=500;X-TITLE=695 Kings Creek Loop:geo:-82.727158,35.239704
END:VEVENT
END:VCALENDAR