BEGIN:VCALENDAR
VERSION:2.0
PRODID:-//Brevard College - ECPv6.15.20//NONSGML v1.0//EN
CALSCALE:GREGORIAN
METHOD:PUBLISH
X-WR-CALNAME:Brevard College
X-ORIGINAL-URL:https://brevard.edu
X-WR-CALDESC:Events for Brevard College
REFRESH-INTERVAL;VALUE=DURATION:PT1H
X-Robots-Tag:noindex
X-PUBLISHED-TTL:PT1H
BEGIN:VTIMEZONE
TZID:America/New_York
BEGIN:DAYLIGHT
TZOFFSETFROM:-0500
TZOFFSETTO:-0400
TZNAME:EDT
DTSTART:20250309T070000
END:DAYLIGHT
BEGIN:STANDARD
TZOFFSETFROM:-0400
TZOFFSETTO:-0500
TZNAME:EST
DTSTART:20251102T060000
END:STANDARD
BEGIN:DAYLIGHT
TZOFFSETFROM:-0500
TZOFFSETTO:-0400
TZNAME:EDT
DTSTART:20260308T070000
END:DAYLIGHT
BEGIN:STANDARD
TZOFFSETFROM:-0400
TZOFFSETTO:-0500
TZNAME:EST
DTSTART:20261101T060000
END:STANDARD
BEGIN:DAYLIGHT
TZOFFSETFROM:-0500
TZOFFSETTO:-0400
TZNAME:EDT
DTSTART:20270314T070000
END:DAYLIGHT
BEGIN:STANDARD
TZOFFSETFROM:-0400
TZOFFSETTO:-0500
TZNAME:EST
DTSTART:20271107T060000
END:STANDARD
END:VTIMEZONE
BEGIN:VEVENT
DTSTART;TZID=America/New_York:20260303T170000
DTEND;TZID=America/New_York:20260303T190000
DTSTAMP:20260421T124508
CREATED:20251119T162048Z
LAST-MODIFIED:20260303T055513Z
UID:120108-1772557200-1772564400@brevard.edu
SUMMARY:Women's Lacrosse vs. Guilford
DESCRIPTION:
URL:https://brevard.edu/event/womens-lacrosse-vs-guilford/
LOCATION:Ives-Lemel Family Field\, 201 Kings Creek Loop\, Brevard\, NC\, United States
CATEGORIES:Athletics
GEO:35.238433;-82.728939
X-APPLE-STRUCTURED-LOCATION;VALUE=URI;X-ADDRESS=Ives-Lemel Family Field 201 Kings Creek Loop Brevard NC United States;X-APPLE-RADIUS=500;X-TITLE=201 Kings Creek Loop:geo:-82.728939,35.238433
END:VEVENT
BEGIN:VEVENT
DTSTART;TZID=America/New_York:20260304T140000
DTEND;TZID=America/New_York:20260304T170000
DTSTAMP:20260421T124508
CREATED:20251119T162049Z
LAST-MODIFIED:20260304T055618Z
UID:120113-1772632800-1772643600@brevard.edu
SUMMARY:Baseball at Guilford
DESCRIPTION:
URL:https://brevard.edu/event/baseball-vs-guilford/
LOCATION:Greensboro\, NC\, USA\, Greensboro\, North Carolina\, United States
CATEGORIES:Athletics
GEO:36.0725632;-79.791534
END:VEVENT
BEGIN:VEVENT
DTSTART;TZID=America/New_York:20260304T150000
DTEND;TZID=America/New_York:20260304T190000
DTSTAMP:20260421T124508
CREATED:20260108T213828Z
LAST-MODIFIED:20260304T055618Z
UID:121018-1772636400-1772650800@brevard.edu
SUMMARY:Softball at Maryville DH
DESCRIPTION:
URL:https://brevard.edu/event/softball-at-maryville-dh/
LOCATION:Maryville\, TN\, USA\, Maryville\, Tennessee\, United States
CATEGORIES:Athletics
GEO:35.7564719;-83.9704593
END:VEVENT
BEGIN:VEVENT
DTSTART;TZID=America/New_York:20260307T140000
DTEND;TZID=America/New_York:20260307T160000
DTSTAMP:20260421T124508
CREATED:20260120T232623Z
LAST-MODIFIED:20260307T061105Z
UID:165472-1772892000-1772899200@brevard.edu
SUMMARY:Softball vs. Berea at Wesleyan
DESCRIPTION:
URL:https://brevard.edu/event/softball-vs-berea-at-wesleyan/
LOCATION:Macon\, GA\, USA
CATEGORIES:Athletics
END:VEVENT
BEGIN:VEVENT
DTSTART;TZID=America/New_York:20260307T150000
DTEND;TZID=America/New_York:20260307T170000
DTSTAMP:20260421T124508
CREATED:20251119T162050Z
LAST-MODIFIED:20260307T061105Z
UID:120114-1772895600-1772902800@brevard.edu
SUMMARY:Women's Lacrosse at Oglethorpe
DESCRIPTION:
URL:https://brevard.edu/event/womens-lacrosse-at-oglethorpe/
LOCATION:Atlanta\, GA\, USA
CATEGORIES:Athletics
END:VEVENT
BEGIN:VEVENT
DTSTART;TZID=America/New_York:20260307T160000
DTEND;TZID=America/New_York:20260307T180000
DTSTAMP:20260421T124508
CREATED:20251119T162050Z
LAST-MODIFIED:20260307T061105Z
UID:120115-1772899200-1772906400@brevard.edu
SUMMARY:Men's Lacrosse vs. Methodist
DESCRIPTION:
URL:https://brevard.edu/event/mens-lacrosse-vs-methodist/
LOCATION:Ives-Lemel Family Field\, 201 Kings Creek Loop\, Brevard\, NC\, United States
CATEGORIES:Athletics
GEO:35.238433;-82.728939
X-APPLE-STRUCTURED-LOCATION;VALUE=URI;X-ADDRESS=Ives-Lemel Family Field 201 Kings Creek Loop Brevard NC United States;X-APPLE-RADIUS=500;X-TITLE=201 Kings Creek Loop:geo:-82.728939,35.238433
END:VEVENT
BEGIN:VEVENT
DTSTART;TZID=America/New_York:20260307T160000
DTEND;TZID=America/New_York:20260307T180000
DTSTAMP:20260421T124508
CREATED:20260120T232623Z
LAST-MODIFIED:20260307T061105Z
UID:165473-1772899200-1772906400@brevard.edu
SUMMARY:Softball at Wesleyan
DESCRIPTION:
URL:https://brevard.edu/event/softball-at-wesleyan/
LOCATION:Macon\, GA\, USA
CATEGORIES:Athletics
END:VEVENT
BEGIN:VEVENT
DTSTART;TZID=America/New_York:20260308T120000
DTEND;TZID=America/New_York:20260308T160000
DTSTAMP:20260421T124508
CREATED:20260120T232623Z
LAST-MODIFIED:20260308T062623Z
UID:165474-1772971200-1772985600@brevard.edu
SUMMARY:Softball at Wesleyan (DH)
DESCRIPTION:
URL:https://brevard.edu/event/softball-at-wesleyan-dh/
LOCATION:Macon\, GA\, USA
CATEGORIES:Athletics
END:VEVENT
BEGIN:VEVENT
DTSTART;TZID=America/New_York:20260308T120000
DTEND;TZID=America/New_York:20260308T180000
DTSTAMP:20260421T124508
CREATED:20251119T162050Z
LAST-MODIFIED:20260308T062623Z
UID:120116-1772971200-1772992800@brevard.edu
SUMMARY:Baseball vs. Penn State Scranton (DH)
DESCRIPTION:
URL:https://brevard.edu/event/baseball-vs-penn-state-scranton/
LOCATION:Gil Coan Field\, 292 Kings Creek Loop\, Brevard\, NC\, United States
CATEGORIES:Athletics
GEO:35.239135;-82.727689
X-APPLE-STRUCTURED-LOCATION;VALUE=URI;X-ADDRESS=Gil Coan Field 292 Kings Creek Loop Brevard NC United States;X-APPLE-RADIUS=500;X-TITLE=292 Kings Creek Loop:geo:-82.727689,35.239135
END:VEVENT
BEGIN:VEVENT
DTSTART;TZID=America/New_York:20260308T180000
DTEND;TZID=America/New_York:20260308T200000
DTSTAMP:20260421T124508
CREATED:20260304T055620Z
LAST-MODIFIED:20260308T062624Z
UID:169368-1772992800-1773000000@brevard.edu
SUMMARY:Men's Tennis vs. Immaculata (Spring Break Trip)
DESCRIPTION:
URL:https://brevard.edu/event/mens-tennis-vs-immaculata-spring-break-trip/
LOCATION:Hilton Head Island\, SC\, USA
CATEGORIES:Athletics
END:VEVENT
END:VCALENDAR