BEGIN:VCALENDAR
VERSION:2.0
PRODID:-//Brevard College - ECPv6.15.20//NONSGML v1.0//EN
CALSCALE:GREGORIAN
METHOD:PUBLISH
X-ORIGINAL-URL:https://brevard.edu
X-WR-CALDESC:Events for Brevard College
REFRESH-INTERVAL;VALUE=DURATION:PT1H
X-Robots-Tag:noindex
X-PUBLISHED-TTL:PT1H
BEGIN:VTIMEZONE
TZID:America/New_York
BEGIN:DAYLIGHT
TZOFFSETFROM:-0500
TZOFFSETTO:-0400
TZNAME:EDT
DTSTART:20250309T070000
END:DAYLIGHT
BEGIN:STANDARD
TZOFFSETFROM:-0400
TZOFFSETTO:-0500
TZNAME:EST
DTSTART:20251102T060000
END:STANDARD
BEGIN:DAYLIGHT
TZOFFSETFROM:-0500
TZOFFSETTO:-0400
TZNAME:EDT
DTSTART:20260308T070000
END:DAYLIGHT
BEGIN:STANDARD
TZOFFSETFROM:-0400
TZOFFSETTO:-0500
TZNAME:EST
DTSTART:20261101T060000
END:STANDARD
BEGIN:DAYLIGHT
TZOFFSETFROM:-0500
TZOFFSETTO:-0400
TZNAME:EDT
DTSTART:20270314T070000
END:DAYLIGHT
BEGIN:STANDARD
TZOFFSETFROM:-0400
TZOFFSETTO:-0500
TZNAME:EST
DTSTART:20271107T060000
END:STANDARD
END:VTIMEZONE
BEGIN:VEVENT
DTSTART;TZID=America/New_York:20260923T160000
DTEND;TZID=America/New_York:20260923T180000
DTSTAMP:20260421T031237
CREATED:20260408T090816Z
LAST-MODIFIED:20260420T095323Z
UID:169756-1790179200-1790186400@brevard.edu
SUMMARY:Women’s Soccer vs. Salem
DESCRIPTION:
URL:https://brevard.edu/event/womens-soccer-vs-salem/
LOCATION:Ives-Lemel Family Field\, 201 Kings Creek Loop\, Brevard\, NC\, United States
CATEGORIES:Athletics
GEO:35.238433;-82.728939
X-APPLE-STRUCTURED-LOCATION;VALUE=URI;X-ADDRESS=Ives-Lemel Family Field 201 Kings Creek Loop Brevard NC United States;X-APPLE-RADIUS=500;X-TITLE=201 Kings Creek Loop:geo:-82.728939,35.238433
END:VEVENT
BEGIN:VEVENT
DTSTART;TZID=America/New_York:20260926T000000
DTEND;TZID=America/New_York:20260928T000000
DTSTAMP:20260421T031237
CREATED:20260407T090815Z
LAST-MODIFIED:20260420T095324Z
UID:169736-1790380800-1790553600@brevard.edu
SUMMARY:Cycling at SECCC Championships | Brevard Home Race
DESCRIPTION:
URL:https://brevard.edu/event/cycling-at-seccc-championships-brevard-home-race/
LOCATION:Ride Rock Creek Bike Park\, 298 W Rock Creek Rd\, Zirconia\, NC\, United States
CATEGORIES:Athletics
GEO:35.199084;-82.508888
X-APPLE-STRUCTURED-LOCATION;VALUE=URI;X-ADDRESS=Ride Rock Creek Bike Park 298 W Rock Creek Rd Zirconia NC United States;X-APPLE-RADIUS=500;X-TITLE=298 W Rock Creek Rd:geo:-82.508888,35.199084
END:VEVENT
BEGIN:VEVENT
DTSTART;TZID=America/New_York:20260926T120000
DTEND;TZID=America/New_York:20260926T140000
DTSTAMP:20260421T031237
CREATED:20260408T090817Z
LAST-MODIFIED:20260420T095324Z
UID:169757-1790424000-1790431200@brevard.edu
SUMMARY:Women’s Soccer vs. Methodist
DESCRIPTION:
URL:https://brevard.edu/event/womens-soccer-vs-methodist/
LOCATION:Ives-Lemel Family Field\, 201 Kings Creek Loop\, Brevard\, NC\, United States
CATEGORIES:Athletics
GEO:35.238433;-82.728939
X-APPLE-STRUCTURED-LOCATION;VALUE=URI;X-ADDRESS=Ives-Lemel Family Field 201 Kings Creek Loop Brevard NC United States;X-APPLE-RADIUS=500;X-TITLE=201 Kings Creek Loop:geo:-82.728939,35.238433
END:VEVENT
BEGIN:VEVENT
DTSTART;TZID=America/New_York:20260926T180000
DTEND;TZID=America/New_York:20260926T210000
DTSTAMP:20260421T031237
CREATED:20260407T090815Z
LAST-MODIFIED:20260420T095323Z
UID:169737-1790445600-1790456400@brevard.edu
SUMMARY:Football at Guilford
DESCRIPTION:
URL:https://brevard.edu/event/football-at-guilford/
LOCATION:Greensboro\, NC\, USA\, Greensboro\, North Carolina\, United States
CATEGORIES:Athletics
GEO:36.0725632;-79.791534
END:VEVENT
END:VCALENDAR