BEGIN:VCALENDAR
VERSION:2.0
PRODID:-//Brevard College - ECPv6.15.20//NONSGML v1.0//EN
CALSCALE:GREGORIAN
METHOD:PUBLISH
X-WR-CALNAME:Brevard College
X-ORIGINAL-URL:https://brevard.edu
X-WR-CALDESC:Events for Brevard College
REFRESH-INTERVAL;VALUE=DURATION:PT1H
X-Robots-Tag:noindex
X-PUBLISHED-TTL:PT1H
BEGIN:VTIMEZONE
TZID:America/New_York
BEGIN:DAYLIGHT
TZOFFSETFROM:-0500
TZOFFSETTO:-0400
TZNAME:EDT
DTSTART:20250309T070000
END:DAYLIGHT
BEGIN:STANDARD
TZOFFSETFROM:-0400
TZOFFSETTO:-0500
TZNAME:EST
DTSTART:20251102T060000
END:STANDARD
BEGIN:DAYLIGHT
TZOFFSETFROM:-0500
TZOFFSETTO:-0400
TZNAME:EDT
DTSTART:20260308T070000
END:DAYLIGHT
BEGIN:STANDARD
TZOFFSETFROM:-0400
TZOFFSETTO:-0500
TZNAME:EST
DTSTART:20261101T060000
END:STANDARD
BEGIN:DAYLIGHT
TZOFFSETFROM:-0500
TZOFFSETTO:-0400
TZNAME:EDT
DTSTART:20270314T070000
END:DAYLIGHT
BEGIN:STANDARD
TZOFFSETFROM:-0400
TZOFFSETTO:-0500
TZNAME:EST
DTSTART:20271107T060000
END:STANDARD
END:VTIMEZONE
BEGIN:VEVENT
DTSTART;TZID=America/New_York:20260213T000000
DTEND;TZID=America/New_York:20260215T000000
DTSTAMP:20260421T205728
CREATED:20251119T162045Z
LAST-MODIFIED:20260215T032808Z
UID:120090-1770940800-1771113600@brevard.edu
SUMMARY:Indoor Track & Field at Mid-Winter Collegiate Invite
DESCRIPTION:
URL:https://brevard.edu/event/indoor-track-field-at-tryon-international-collegiate-meet/
LOCATION:Tryon International\, 25 International Dr\, Mill Spring\, NC\, United States
CATEGORIES:Athletics
GEO:35.290482;-82.145065
X-APPLE-STRUCTURED-LOCATION;VALUE=URI;X-ADDRESS=Tryon International 25 International Dr Mill Spring NC United States;X-APPLE-RADIUS=500;X-TITLE=25 International Dr:geo:-82.145065,35.290482
END:VEVENT
BEGIN:VEVENT
DTSTART;TZID=America/New_York:20260116T000000
DTEND;TZID=America/New_York:20260118T000000
DTSTAMP:20260421T205728
CREATED:20251119T162040Z
LAST-MODIFIED:20260116T223819Z
UID:120070-1768521600-1768694400@brevard.edu
SUMMARY:Indoor Track & Field at Tryon International Winter Classic
DESCRIPTION:
URL:https://brevard.edu/event/indoor-track-field-at-tryon-international-collegiate-opener/
LOCATION:Tryon International\, 25 International Dr\, Mill Spring\, NC\, United States
CATEGORIES:Athletics
GEO:35.290482;-82.145065
X-APPLE-STRUCTURED-LOCATION;VALUE=URI;X-ADDRESS=Tryon International 25 International Dr Mill Spring NC United States;X-APPLE-RADIUS=500;X-TITLE=25 International Dr:geo:-82.145065,35.290482
END:VEVENT
END:VCALENDAR